BEGIN:VCALENDAR
VERSION:2.0
PRODID:-//eventon.com NONSGML v1.0//EN
CALSCALE:GREGORIAN
METHOD:PUBLISH
BEGIN:VEVENT
UID:69e74937d45a0
DTSTAMP:20260421T115359
DTSTART:20240920T140000Z
DTEND:20240920T180000Z
TZID:Europe/Vienna
LOCATION:
SUMMARY:Lebensmittel Hautnah: Ölmühle Sailer Lochau und Himmelschlüssel Hohenweiler
DESCRIPTION: Ölmühle Sailer\,  16:00 Uhr ( ca. 1h ) Toni-Russ-Strasse 8d\,  6911 Lochau Vor 14 Jahren fing Barbara Sailer mit der Pressung von Bio Leinöl an. Sie wollte einfach ein gutes Öl für ihre Familie. Aber die Nachfrage wurde beim Bekanntenkreis immer größer. Und so entstand das erste Geschäft von Barbara[..]\nhttps://garteneden-projekt.at/events/lebensmittel-hautnah-sailer/
URL:https://garteneden-projekt.at/events/lebensmittel-hautnah-sailer/
END:VEVENT
END:VCALENDAR